Workbook

Sheet EOQ example
A1: Economic Order Quantity
B3: Demand = | C3: 10000 | D3: Annual Requirements or Demand
B4: Cost per item = | C4: 150 | D4: Purchase cost per Unit
B5: A = | D5: Annual Usage, in dollars
B6: B = | C6: 125 | D6: Administrative costs per order of placing the order
B7: C = | C7: 0.28 | D7: Carrying costs of the inventory (expressed as an annual percentage of the inventory dollar value)
B9: EOQ value = | D9: (exact value)
B10: EOQ units = | D10: (rounded number)
B12: Using this inventory management system, every time that you need to order this item, you buy EOQ of them!
A14: EXTRA: What if your supplier requires you to purchase only in Cases of 60 units each? How much extra would this cost in a year?
B15: Hint -- use the the table on the "Chart data" tab for the computation of "Total Annual Cost" for your EOQ and the best Case Lot.
B17: When to order is another question…. See the next assignment to compute the Reorder Point.

Sheet Chart data
C3: ='EOQ example'!B3 -> Demand = | D3: ='EOQ example'!C3 -> 10000 | E3: ='EOQ example'!D3 -> Annual Requirements or Demand
C4: A = | D4: ='EOQ example'!C5 -> 0 | E4: ='EOQ example'!D5 -> Annual Usage, in dollars
D5: ='EOQ example'!C4 -> 150 | E5: ='EOQ example'!D4 -> Purchase cost per Unit
C6: ='EOQ example'!B6 -> B = | D6: ='EOQ example'!C6 -> 125 | E6: ='EOQ example'!D6 -> Administrative costs per order of placing the order
C7: C = | D7: ='EOQ example'!C7 -> 0.28 | E7: ='EOQ example'!D7 -> Carrying costs of the inventory (expressed as an annual percentage of the inventory dollar value)
C9: EOQ = | D9: ='EOQ example'!C10 -> 0
C11: Min Q | D11: =D9*0.1 -> 0
C12: Max Q | D12: =D9*2 -> 0
E15: Q | F15: Annual Order Cost | G15: Annual Holding Cost | H15: Total Cost
E16: =$D$11 -> 0 | F16: =$D$3/E16*$D$6 -> #DIV/0! | G16: =E16/2*$D$7*$D$5 -> 0 | H16: =F16+G16 -> #DIV/0!
E17: =E16+$D$9/10 -> 0 | F17: =$D$3/E17*$D$6 -> #DIV/0! | G17: =E17/2*$D$7*$D$5 -> 0 | H17: =F17+G17 -> #DIV/0!
E18: =E17+$D$9/10 -> 0 | F18: =$D$3/E18*$D$6 -> #DIV/0! | G18: =E18/2*$D$7*$D$5 -> 0 | H18: =F18+G18 -> #DIV/0!
E19: =E18+$D$9/10 -> 0 | F19: =$D$3/E19*$D$6 -> #DIV/0! | G19: =E19/2*$D$7*$D$5 -> 0 | H19: =F19+G19 -> #DIV/0!
E20: =E19+$D$9/10 -> 0 | F20: =$D$3/E20*$D$6 -> #DIV/0! | G20: =E20/2*$D$7*$D$5 -> 0 | H20: =F20+G20 -> #DIV/0!
E21: =E20+$D$9/10 -> 0 | F21: =$D$3/E21*$D$6 -> #DIV/0! | G21: =E21/2*$D$7*$D$5 -> 0 | H21: =F21+G21 -> #DIV/0!
E22: =E21+$D$9/10 -> 0 | F22: =$D$3/E22*$D$6 -> #DIV/0! | G22: =E22/2*$D$7*$D$5 -> 0 | H22: =F22+G22 -> #DIV/0!
E23: =E22+$D$9/10 -> 0 | F23: =$D$3/E23*$D$6 -> #DIV/0! | G23: =E23/2*$D$7*$D$5 -> 0 | H23: =F23+G23 -> #DIV/0!
E24: =E23+$D$9/10 -> 0 | F24: =$D$3/E24*$D$6 -> #DIV/0! | G24: =E24/2*$D$7*$D$5 -> 0 | H24: =F24+G24 -> #DIV/0!
E25: =E24+$D$9/10 -> 0 | F25: =$D$3/E25*$D$6 -> #DIV/0! | G25: =E25/2*$D$7*$D$5 -> 0 | H25: =F25+G25 -> #DIV/0!
E26: =E25+$D$9/10 -> 0 | F26: =$D$3/E26*$D$6 -> #DIV/0! | G26: =E26/2*$D$7*$D$5 -> 0 | H26: =F26+G26 -> #DIV/0!
E27: =E26+$D$9/10 -> 0 | F27: =$D$3/E27*$D$6 -> #DIV/0! | G27: =E27/2*$D$7*$D$5 -> 0 | H27: =F27+G27 -> #DIV/0!
E28: =E27+$D$9/10 -> 0 | F28: =$D$3/E28*$D$6 -> #DIV/0! | G28: =E28/2*$D$7*$D$5 -> 0 | H28: =F28+G28 -> #DIV/0!
... E35: =E34+$D$9/10 -> 0 | F35: =$D$3/E35*$D$6 -> #DIV/0! | G35: =E35/2*$D$7*$D$5 -> 0 | H35: =F35+G35 -> #DIV/0!
